BEGIN:VCALENDAR
VERSION:2.0
PRODID:-//jEvents 2.0 for Joomla//EN
CALSCALE:GREGORIAN
METHOD:PUBLISH
BEGIN:VTIMEZONE
TZID:Europe/Zurich
BEGIN:STANDARD
DTSTART:20231029T020000
RDATE:20240331T030000
TZOFFSETFROM:+0200
TZOFFSETTO:+0100
TZNAME:Europe/Zurich CET
END:STANDARD
BEGIN:STANDARD
DTSTART:20241027T020000
RDATE:20250330T030000
TZOFFSETFROM:+0200
TZOFFSETTO:+0100
TZNAME:Europe/Zurich CET
END:STANDARD
BEGIN:STANDARD
DTSTART:20251026T020000
RDATE:20260329T030000
TZOFFSETFROM:+0200
TZOFFSETTO:+0100
TZNAME:Europe/Zurich CET
END:STANDARD
BEGIN:STANDARD
DTSTART:20261025T020000
RDATE:20270328T030000
TZOFFSETFROM:+0200
TZOFFSETTO:+0100
TZNAME:Europe/Zurich CET
END:STANDARD
BEGIN:STANDARD
DTSTART:20271031T020000
RDATE:20280326T030000
TZOFFSETFROM:+0200
TZOFFSETTO:+0100
TZNAME:Europe/Zurich CET
END:STANDARD
BEGIN:STANDARD
DTSTART:20281029T020000
RDATE:20290325T030000
TZOFFSETFROM:+0200
TZOFFSETTO:+0100
TZNAME:Europe/Zurich CET
END:STANDARD
BEGIN:DAYLIGHT
DTSTART:20230519T100000
RDATE:20231029T020000
TZOFFSETFROM:+0100
TZOFFSETTO:+0200
TZNAME:Europe/Zurich CEST
END:DAYLIGHT
BEGIN:DAYLIGHT
DTSTART:20240331T030000
RDATE:20241027T020000
TZOFFSETFROM:+0100
TZOFFSETTO:+0200
TZNAME:Europe/Zurich CEST
END:DAYLIGHT
BEGIN:DAYLIGHT
DTSTART:20250330T030000
RDATE:20251026T020000
TZOFFSETFROM:+0100
TZOFFSETTO:+0200
TZNAME:Europe/Zurich CEST
END:DAYLIGHT
BEGIN:DAYLIGHT
DTSTART:20260329T030000
RDATE:20261025T020000
TZOFFSETFROM:+0100
TZOFFSETTO:+0200
TZNAME:Europe/Zurich CEST
END:DAYLIGHT
BEGIN:DAYLIGHT
DTSTART:20270328T030000
RDATE:20271031T020000
TZOFFSETFROM:+0100
TZOFFSETTO:+0200
TZNAME:Europe/Zurich CEST
END:DAYLIGHT
BEGIN:DAYLIGHT
DTSTART:20280326T030000
RDATE:20281029T020000
TZOFFSETFROM:+0100
TZOFFSETTO:+0200
TZNAME:Europe/Zurich CEST
END:DAYLIGHT
END:VTIMEZONE
BEGIN:VEVENT
UID:5f176a13c3d9aa852b4d2985778604c3
CATEGORIES:Gottesdienst
CREATED:20240101T184519
SUMMARY:Pfingstgottesdienst
LOCATION:Kirchgemeindehaus
DESCRIPTION:Pfingstgottesdienst im Kirchgemeindehaus mit Abendmahl \nund der 4. Klasse,
  Pfr. Volker Houba und Eva Büchli, Katechetin.\nAnschliessend Spiel und Pla
 usch mit den Schüler*innen der 7. Klasse rings ums Kirchgemeindehaus und Br
 unch-Teilete.\n
X-ALT-DESC;FMTTYPE=text/html:<p>Pfingstgottesdienst <span style="font-size: 1rem;">im Kirchgemeindehaus 
 </span><span style="font-size: 1rem;">mit Abendmahl </span></p><p>und der 4
 . Klasse, Pfr. Volker Houba und Eva Büchli, Katechetin.<br />Anschliessend 
 Spiel und Plausch mit den Schüler*innen der 7. Klasse rings ums Kirchgemein
 dehaus und Brunch-Teilete.</p>
DTSTAMP:20260422T035038
DTSTART;TZID=Europe/Zurich:20240519T100000
DTEND;TZID=Europe/Zurich:20240519T140000
SEQUENCE:0
TRANSP:OPAQUE
END:VEVENT
END:VCALENDAR