BEGIN:VCALENDAR
VERSION:2.0
PRODID:-//jEvents 2.0 for Joomla//EN
CALSCALE:GREGORIAN
METHOD:PUBLISH
BEGIN:VTIMEZONE
TZID:Europe/Zurich
BEGIN:STANDARD
DTSTART:20251026T020000
RDATE:20260329T030000
TZOFFSETFROM:+0200
TZOFFSETTO:+0100
TZNAME:Europe/Zurich CET
END:STANDARD
BEGIN:STANDARD
DTSTART:20261025T020000
RDATE:20270328T030000
TZOFFSETFROM:+0200
TZOFFSETTO:+0100
TZNAME:Europe/Zurich CET
END:STANDARD
BEGIN:STANDARD
DTSTART:20271031T020000
RDATE:20280326T030000
TZOFFSETFROM:+0200
TZOFFSETTO:+0100
TZNAME:Europe/Zurich CET
END:STANDARD
BEGIN:STANDARD
DTSTART:20281029T020000
RDATE:20290325T030000
TZOFFSETFROM:+0200
TZOFFSETTO:+0100
TZNAME:Europe/Zurich CET
END:STANDARD
BEGIN:DAYLIGHT
DTSTART:20250805T093000
RDATE:20251026T020000
TZOFFSETFROM:+0100
TZOFFSETTO:+0200
TZNAME:Europe/Zurich CEST
END:DAYLIGHT
BEGIN:DAYLIGHT
DTSTART:20260329T030000
RDATE:20261025T020000
TZOFFSETFROM:+0100
TZOFFSETTO:+0200
TZNAME:Europe/Zurich CEST
END:DAYLIGHT
BEGIN:DAYLIGHT
DTSTART:20270328T030000
RDATE:20271031T020000
TZOFFSETFROM:+0100
TZOFFSETTO:+0200
TZNAME:Europe/Zurich CEST
END:DAYLIGHT
BEGIN:DAYLIGHT
DTSTART:20280326T030000
RDATE:20281029T020000
TZOFFSETFROM:+0100
TZOFFSETTO:+0200
TZNAME:Europe/Zurich CEST
END:DAYLIGHT
END:VTIMEZONE
BEGIN:VEVENT
UID:fbbf9018a44ab4080199f425ca911faa
CATEGORIES:Lager
CREATED:20260118T155214
SUMMARY:Sommerferienplausch
DESCRIPTION:Sommerferienplausch für alle Kinder vom Kindergarten bis und mit 2. Klasse!
 Auskunft erteilt gerne: Eva Büchli, Diese E-Mail-Adresse ist vor Spambots g
 eschützt! Zur Anzeige muss JavaScript eingeschaltet sein., Telefon 062 876 
 12 36 oder auch im Sekretariat, Diese E-Mail-Adresse ist vor Spambots gesch
 ützt! Zur Anzeige muss JavaScript eingeschaltet sein. 
X-ALT-DESC;FMTTYPE=text/html:Sommerferienplausch für alle Kinder vom Kindergarten bis und mit 2. Klasse!
 Auskunft erteilt gerne: Eva Büchli, <joomla-hidden-mail  is-link="1" is-ema
 il="1" first="ZXZhLmJ1ZWNobGk=" last="cmVma2ctYm9lemVuLmNo" text="ZXZhLmJ1Z
 WNobGlAcmVma2ctYm9lemVuLmNo" base="" >Diese E-Mail-Adresse ist vor Spambots
  geschützt! Zur Anzeige muss JavaScript eingeschaltet sein.</joomla-hidden-
 mail>, Telefon 062 876 12 36 oder auch im Sekretariat, <joomla-hidden-mail 
  is-link="1" is-email="1" first="c2VrcmV0YXJpYXQ=" last="cmVma2ctYm9lemVuLm
 No" text="c2VrcmV0YXJpYXRAcmVma2ctYm9lemVuLmNo" base="" >Diese E-Mail-Adres
 se ist vor Spambots geschützt! Zur Anzeige muss JavaScript eingeschaltet se
 in.</joomla-hidden-mail> 
DTSTAMP:20260421T055839
DTSTART;TZID=Europe/Zurich:20260806T093000
DTEND;TZID=Europe/Zurich:20260806T153000
SEQUENCE:0
TRANSP:OPAQUE
END:VEVENT
END:VCALENDAR