BEGIN:VCALENDAR
VERSION:2.0
PRODID:-//jEvents 2.0 for Joomla//EN
CALSCALE:GREGORIAN
METHOD:PUBLISH
BEGIN:VTIMEZONE
TZID:Europe/Zurich
BEGIN:STANDARD
DTSTART:20251026T020000
RDATE:20260329T030000
TZOFFSETFROM:+0200
TZOFFSETTO:+0100
TZNAME:Europe/Zurich CET
END:STANDARD
BEGIN:STANDARD
DTSTART:20261025T020000
RDATE:20270328T030000
TZOFFSETFROM:+0200
TZOFFSETTO:+0100
TZNAME:Europe/Zurich CET
END:STANDARD
BEGIN:STANDARD
DTSTART:20271031T020000
RDATE:20280326T030000
TZOFFSETFROM:+0200
TZOFFSETTO:+0100
TZNAME:Europe/Zurich CET
END:STANDARD
BEGIN:STANDARD
DTSTART:20281029T020000
RDATE:20290325T030000
TZOFFSETFROM:+0200
TZOFFSETTO:+0100
TZNAME:Europe/Zurich CET
END:STANDARD
BEGIN:DAYLIGHT
DTSTART:20250803T093000
RDATE:20251026T020000
TZOFFSETFROM:+0100
TZOFFSETTO:+0200
TZNAME:Europe/Zurich CEST
END:DAYLIGHT
BEGIN:DAYLIGHT
DTSTART:20260329T030000
RDATE:20261025T020000
TZOFFSETFROM:+0100
TZOFFSETTO:+0200
TZNAME:Europe/Zurich CEST
END:DAYLIGHT
BEGIN:DAYLIGHT
DTSTART:20270328T030000
RDATE:20271031T020000
TZOFFSETFROM:+0100
TZOFFSETTO:+0200
TZNAME:Europe/Zurich CEST
END:DAYLIGHT
BEGIN:DAYLIGHT
DTSTART:20280326T030000
RDATE:20281029T020000
TZOFFSETFROM:+0100
TZOFFSETTO:+0200
TZNAME:Europe/Zurich CEST
END:DAYLIGHT
END:VTIMEZONE
BEGIN:VEVENT
UID:526438417ed2ab9cb3da7f47914e5072
CATEGORIES:Lager
CREATED:20260118T155138
SUMMARY:Sommerferienplausch
DESCRIPTION:Sommerferienplausch für alle Kinder vom Kindergarten bis und mit 2. Klasse!
 <br />Auskunft erteilt gerne: Eva Büchli, <joomla-hidden-mail  is-link="1" 
 is-email="1" first="ZXZhLmJ1ZWNobGk=" last="cmVma2ctYm9lemVuLmNo" text="ZXZ
 hLmJ1ZWNobGlAcmVma2ctYm9lemVuLmNo" base="" >Diese E-Mail-Adresse ist vor Sp
 ambots geschützt! Zur Anzeige muss JavaScript eingeschaltet sein.</joomla-h
 idden-mail>, Telefon 062 876 12 36 oder auch im Sekretariat, <joomla-hidden
 -mail  is-link="1" is-email="1" first="c2VrcmV0YXJpYXQ=" last="cmVma2ctYm9l
 emVuLmNo" text="c2VrcmV0YXJpYXRAcmVma2ctYm9lemVuLmNo" base="" >Diese E-Mail
 -Adresse ist vor Spambots geschützt! Zur Anzeige muss JavaScript eingeschal
 tet sein.</joomla-hidden-mail> 
DTSTAMP:20260421T060141
DTSTART;TZID=Europe/Zurich:20260804T093000
DTEND;TZID=Europe/Zurich:20260804T153000
SEQUENCE:0
TRANSP:OPAQUE
END:VEVENT
END:VCALENDAR