BEGIN:VCALENDAR
VERSION:2.0
PRODID:-//jEvents 2.0 for Joomla//EN
CALSCALE:GREGORIAN
METHOD:PUBLISH
BEGIN:VTIMEZONE
TZID:Europe/Zurich
BEGIN:STANDARD
DTSTART:20241027T020000
RDATE:20250330T030000
TZOFFSETFROM:+0200
TZOFFSETTO:+0100
TZNAME:Europe/Zurich CET
END:STANDARD
BEGIN:STANDARD
DTSTART:20251026T020000
RDATE:20260329T030000
TZOFFSETFROM:+0200
TZOFFSETTO:+0100
TZNAME:Europe/Zurich CET
END:STANDARD
BEGIN:STANDARD
DTSTART:20261025T020000
RDATE:20270328T030000
TZOFFSETFROM:+0200
TZOFFSETTO:+0100
TZNAME:Europe/Zurich CET
END:STANDARD
BEGIN:STANDARD
DTSTART:20271031T020000
RDATE:20280326T030000
TZOFFSETFROM:+0200
TZOFFSETTO:+0100
TZNAME:Europe/Zurich CET
END:STANDARD
BEGIN:STANDARD
DTSTART:20281029T020000
RDATE:20290325T030000
TZOFFSETFROM:+0200
TZOFFSETTO:+0100
TZNAME:Europe/Zurich CET
END:STANDARD
BEGIN:DAYLIGHT
DTSTART:20240913T080000
RDATE:20241027T020000
TZOFFSETFROM:+0100
TZOFFSETTO:+0200
TZNAME:Europe/Zurich CEST
END:DAYLIGHT
BEGIN:DAYLIGHT
DTSTART:20250330T030000
RDATE:20251026T020000
TZOFFSETFROM:+0100
TZOFFSETTO:+0200
TZNAME:Europe/Zurich CEST
END:DAYLIGHT
BEGIN:DAYLIGHT
DTSTART:20260329T030000
RDATE:20261025T020000
TZOFFSETFROM:+0100
TZOFFSETTO:+0200
TZNAME:Europe/Zurich CEST
END:DAYLIGHT
BEGIN:DAYLIGHT
DTSTART:20270328T030000
RDATE:20271031T020000
TZOFFSETFROM:+0100
TZOFFSETTO:+0200
TZNAME:Europe/Zurich CEST
END:DAYLIGHT
BEGIN:DAYLIGHT
DTSTART:20280326T030000
RDATE:20281029T020000
TZOFFSETFROM:+0100
TZOFFSETTO:+0200
TZNAME:Europe/Zurich CEST
END:DAYLIGHT
END:VTIMEZONE
BEGIN:VEVENT
UID:bbb2a9d94bcdeed0b628433ee7a5dcd9
CATEGORIES:Gottesdienst
CREATED:20250511T125955
SUMMARY:Besuch Gottesdienst am Kirchenfest in Aarau
LOCATION:Schachen Aarau
DESCRIPTION:Gemeinsame Fahrt an das Aargauer Kirchenfest! (bitte im Sekretariat anmelde
 n!)\nAbfahrt 9.15 Uhr Parkplatz bei der Kirche\nab 10 Uhr: verschiedene Got
 tesdienste werden angeboten: Schlager-Gottesdienst, Spirituelle Feier, Klas
 sischer Gottesdienst oder Worship\nca. 14 Uhr: gemeinsame Rückfahrt nach Bö
 zen\n
X-ALT-DESC;FMTTYPE=text/html:<p>Gemeinsame Fahrt an das Aargauer Kirchenfest! (bitte im Sekretariat anme
 lden!)</p><p>Abfahrt 9.15 Uhr Parkplatz bei der Kirche</p><p>ab 10 Uhr: ver
 schiedene Gottesdienste werden angeboten: Schlager-Gottesdienst, Spirituell
 e Feier, Klassischer Gottesdienst oder Worship</p><p>ca. 14 Uhr: gemeinsame
  Rückfahrt nach Bözen</p>
DTSTAMP:20260420T222021
DTSTART;TZID=Europe/Zurich:20250914T080000
DTEND;TZID=Europe/Zurich:20250914T170000
SEQUENCE:0
TRANSP:OPAQUE
END:VEVENT
END:VCALENDAR