BEGIN:VCALENDAR
VERSION:2.0
PRODID:-//jEvents 2.0 for Joomla//EN
CALSCALE:GREGORIAN
METHOD:PUBLISH
BEGIN:VTIMEZONE
TZID:Europe/Zurich
BEGIN:STANDARD
DTSTART:20241027T020000
RDATE:20250330T030000
TZOFFSETFROM:+0200
TZOFFSETTO:+0100
TZNAME:Europe/Zurich CET
END:STANDARD
BEGIN:STANDARD
DTSTART:20251026T020000
RDATE:20260329T030000
TZOFFSETFROM:+0200
TZOFFSETTO:+0100
TZNAME:Europe/Zurich CET
END:STANDARD
BEGIN:STANDARD
DTSTART:20261025T020000
RDATE:20270328T030000
TZOFFSETFROM:+0200
TZOFFSETTO:+0100
TZNAME:Europe/Zurich CET
END:STANDARD
BEGIN:STANDARD
DTSTART:20271031T020000
RDATE:20280326T030000
TZOFFSETFROM:+0200
TZOFFSETTO:+0100
TZNAME:Europe/Zurich CET
END:STANDARD
BEGIN:STANDARD
DTSTART:20281029T020000
RDATE:20290325T030000
TZOFFSETFROM:+0200
TZOFFSETTO:+0100
TZNAME:Europe/Zurich CET
END:STANDARD
BEGIN:DAYLIGHT
DTSTART:20240912T080000
RDATE:20241027T020000
TZOFFSETFROM:+0100
TZOFFSETTO:+0200
TZNAME:Europe/Zurich CEST
END:DAYLIGHT
BEGIN:DAYLIGHT
DTSTART:20250330T030000
RDATE:20251026T020000
TZOFFSETFROM:+0100
TZOFFSETTO:+0200
TZNAME:Europe/Zurich CEST
END:DAYLIGHT
BEGIN:DAYLIGHT
DTSTART:20260329T030000
RDATE:20261025T020000
TZOFFSETFROM:+0100
TZOFFSETTO:+0200
TZNAME:Europe/Zurich CEST
END:DAYLIGHT
BEGIN:DAYLIGHT
DTSTART:20270328T030000
RDATE:20271031T020000
TZOFFSETFROM:+0100
TZOFFSETTO:+0200
TZNAME:Europe/Zurich CEST
END:DAYLIGHT
BEGIN:DAYLIGHT
DTSTART:20280326T030000
RDATE:20281029T020000
TZOFFSETFROM:+0100
TZOFFSETTO:+0200
TZNAME:Europe/Zurich CEST
END:DAYLIGHT
END:VTIMEZONE
BEGIN:VEVENT
UID:c039b3d16fb884acb34b5f6baeef81b6
CATEGORIES:Erwachsene / Senioren
CREATED:20250511T125920
SUMMARY:Besuch Kirchenfest in Aarau
LOCATION:Schachen Aarau
DESCRIPTION:Gemeinsame Gratis-Fahrt an das Kirchenfest in Aarau! Für die Fahrt bitte im
  Sekretariat anmelden!\nAbfahrt: 9 Uhr, Parkplatz Kirche\n9.30 - 17.00 Uhr 
 Geniessen Sie das Kirchenfest gemeinsam mit anderen oder alleine. Es hat fü
 r jedes Alter etwas dabei.\n17 Uhr: gemeinsame Rückfahrt nach Bözen\n
X-ALT-DESC;FMTTYPE=text/html:<p>Gemeinsame Gratis-Fahrt an das Kirchenfest in Aarau! Für die Fahrt bitte
  im Sekretariat anmelden!</p><p>Abfahrt: 9 Uhr, Parkplatz Kirche</p><p>9.30
  - 17.00 Uhr Geniessen Sie das Kirchenfest gemeinsam mit anderen oder allei
 ne. Es hat für jedes Alter etwas dabei.</p><p>17 Uhr: gemeinsame Rückfahrt 
 nach Bözen</p>
DTSTAMP:20260420T221913
DTSTART;TZID=Europe/Zurich:20250913T080000
DTEND;TZID=Europe/Zurich:20250913T170000
SEQUENCE:0
TRANSP:OPAQUE
END:VEVENT
END:VCALENDAR