BEGIN:VCALENDAR
VERSION:2.0
PRODID:-//jEvents 2.0 for Joomla//EN
CALSCALE:GREGORIAN
METHOD:PUBLISH
BEGIN:VTIMEZONE
TZID:Europe/Zurich
BEGIN:STANDARD
DTSTART:20241027T020000
RDATE:20250330T030000
TZOFFSETFROM:+0200
TZOFFSETTO:+0100
TZNAME:Europe/Zurich CET
END:STANDARD
BEGIN:STANDARD
DTSTART:20251026T020000
RDATE:20260329T030000
TZOFFSETFROM:+0200
TZOFFSETTO:+0100
TZNAME:Europe/Zurich CET
END:STANDARD
BEGIN:STANDARD
DTSTART:20261025T020000
RDATE:20270328T030000
TZOFFSETFROM:+0200
TZOFFSETTO:+0100
TZNAME:Europe/Zurich CET
END:STANDARD
BEGIN:STANDARD
DTSTART:20271031T020000
RDATE:20280326T030000
TZOFFSETFROM:+0200
TZOFFSETTO:+0100
TZNAME:Europe/Zurich CET
END:STANDARD
BEGIN:STANDARD
DTSTART:20281029T020000
RDATE:20290325T030000
TZOFFSETFROM:+0200
TZOFFSETTO:+0100
TZNAME:Europe/Zurich CET
END:STANDARD
BEGIN:DAYLIGHT
DTSTART:20240705T110000
RDATE:20241027T020000
TZOFFSETFROM:+0100
TZOFFSETTO:+0200
TZNAME:Europe/Zurich CEST
END:DAYLIGHT
BEGIN:DAYLIGHT
DTSTART:20250330T030000
RDATE:20251026T020000
TZOFFSETFROM:+0100
TZOFFSETTO:+0200
TZNAME:Europe/Zurich CEST
END:DAYLIGHT
BEGIN:DAYLIGHT
DTSTART:20260329T030000
RDATE:20261025T020000
TZOFFSETFROM:+0100
TZOFFSETTO:+0200
TZNAME:Europe/Zurich CEST
END:DAYLIGHT
BEGIN:DAYLIGHT
DTSTART:20270328T030000
RDATE:20271031T020000
TZOFFSETFROM:+0100
TZOFFSETTO:+0200
TZNAME:Europe/Zurich CEST
END:DAYLIGHT
BEGIN:DAYLIGHT
DTSTART:20280326T030000
RDATE:20281029T020000
TZOFFSETFROM:+0100
TZOFFSETTO:+0200
TZNAME:Europe/Zurich CEST
END:DAYLIGHT
END:VTIMEZONE
BEGIN:VEVENT
UID:9cdd64507b116071cf42323802d4b4ac
CATEGORIES:Gottesdienst
CREATED:20250511T124304
SUMMARY:Gottesdienst in der Grueb, Bözen
LOCATION:Waldhütte Grueb Bözen
DESCRIPTION:11.00 Uhr: Familiengottesdienst bei der Waldhütte Grueb in Bözen mit PFr. V
 olker Houba\nAnschliessend gemütliches Beisammensein und Bräteln\nBei schle
 chtem Wetter findet der Gottesdienst um 11 Uhr in der Kirche statt und das 
 Bräteln fällt aus. Bei unklaren Wetterverhältnissen gibt die Telefonnummer 
 am Samstag, ab 17 Uhr über den Durchführungsort Auskunft: Telefon 062 876 1
 1 47.\n
X-ALT-DESC;FMTTYPE=text/html:<p>11.00 Uhr: Familiengottesdienst bei der Waldhütte Grueb in Bözen mit PFr
 . Volker Houba</p><p>Anschliessend gemütliches Beisammensein und Bräteln</p
 ><p>Bei schlechtem Wetter findet der Gottesdienst um 11 Uhr in der Kirche s
 tatt und das Bräteln fällt aus. Bei unklaren Wetterverhältnissen gibt die T
 elefonnummer am Samstag, ab 17 Uhr über den Durchführungsort Auskunft: Tele
 fon 062 876 11 47.</p>
DTSTAMP:20260421T142836
DTSTART;TZID=Europe/Zurich:20250706T110000
DTEND;TZID=Europe/Zurich:20250706T120000
SEQUENCE:0
TRANSP:OPAQUE
END:VEVENT
END:VCALENDAR